BEGIN:VCALENDAR
VERSION:2.0
PRODID:-//NABA Club - ECPv6.15.15//NONSGML v1.0//EN
CALSCALE:GREGORIAN
METHOD:PUBLISH
X-WR-CALNAME:NABA Club
X-ORIGINAL-URL:https://nabaclub.org
X-WR-CALDESC:Events for NABA Club
REFRESH-INTERVAL;VALUE=DURATION:PT1H
X-Robots-Tag:noindex
X-PUBLISHED-TTL:PT1H
BEGIN:VTIMEZONE
TZID:America/New_York
BEGIN:DAYLIGHT
TZOFFSETFROM:-0500
TZOFFSETTO:-0400
TZNAME:EDT
DTSTART:20250309T070000
END:DAYLIGHT
BEGIN:STANDARD
TZOFFSETFROM:-0400
TZOFFSETTO:-0500
TZNAME:EST
DTSTART:20251102T060000
END:STANDARD
BEGIN:DAYLIGHT
TZOFFSETFROM:-0500
TZOFFSETTO:-0400
TZNAME:EDT
DTSTART:20260308T070000
END:DAYLIGHT
BEGIN:STANDARD
TZOFFSETFROM:-0400
TZOFFSETTO:-0500
TZNAME:EST
DTSTART:20261101T060000
END:STANDARD
BEGIN:DAYLIGHT
TZOFFSETFROM:-0500
TZOFFSETTO:-0400
TZNAME:EDT
DTSTART:20270314T070000
END:DAYLIGHT
BEGIN:STANDARD
TZOFFSETFROM:-0400
TZOFFSETTO:-0500
TZNAME:EST
DTSTART:20271107T060000
END:STANDARD
END:VTIMEZONE
BEGIN:VEVENT
DTSTART;TZID=America/New_York:20260426T090000
DTEND;TZID=America/New_York:20260426T100000
DTSTAMP:20260424T093847
CREATED:20260319T004651Z
LAST-MODIFIED:20260408T011802Z
UID:10017303-1777194000-1777197600@nabaclub.org
SUMMARY:Step 11 Group
DESCRIPTION:AA | Small Upstairs
URL:https://nabaclub.org/event/step-11-by-the-creek/2026-04-26/
CATEGORIES:Meetings
END:VEVENT
BEGIN:VEVENT
DTSTART;TZID=America/New_York:20260503T090000
DTEND;TZID=America/New_York:20260503T100000
DTSTAMP:20260424T093847
CREATED:20260319T004651Z
LAST-MODIFIED:20260408T011802Z
UID:10017304-1777798800-1777802400@nabaclub.org
SUMMARY:Step 11 Group
DESCRIPTION:AA | Small Upstairs
URL:https://nabaclub.org/event/step-11-by-the-creek/2026-05-03/
CATEGORIES:Meetings
END:VEVENT
BEGIN:VEVENT
DTSTART;TZID=America/New_York:20260510T090000
DTEND;TZID=America/New_York:20260510T100000
DTSTAMP:20260424T093847
CREATED:20260319T004651Z
LAST-MODIFIED:20260408T011802Z
UID:10017305-1778403600-1778407200@nabaclub.org
SUMMARY:Step 11 Group
DESCRIPTION:AA | Small Upstairs
URL:https://nabaclub.org/event/step-11-by-the-creek/2026-05-10/
CATEGORIES:Meetings
END:VEVENT
BEGIN:VEVENT
DTSTART;TZID=America/New_York:20260517T090000
DTEND;TZID=America/New_York:20260517T100000
DTSTAMP:20260424T093847
CREATED:20260319T004651Z
LAST-MODIFIED:20260408T011802Z
UID:10017306-1779008400-1779012000@nabaclub.org
SUMMARY:Step 11 Group
DESCRIPTION:AA | Small Upstairs
URL:https://nabaclub.org/event/step-11-by-the-creek/2026-05-17/
CATEGORIES:Meetings
END:VEVENT
BEGIN:VEVENT
DTSTART;TZID=America/New_York:20260524T090000
DTEND;TZID=America/New_York:20260524T100000
DTSTAMP:20260424T093847
CREATED:20260319T004651Z
LAST-MODIFIED:20260408T011802Z
UID:10017307-1779613200-1779616800@nabaclub.org
SUMMARY:Step 11 Group
DESCRIPTION:AA | Small Upstairs
URL:https://nabaclub.org/event/step-11-by-the-creek/2026-05-24/
CATEGORIES:Meetings
END:VEVENT
BEGIN:VEVENT
DTSTART;TZID=America/New_York:20260531T090000
DTEND;TZID=America/New_York:20260531T100000
DTSTAMP:20260424T093847
CREATED:20260319T004651Z
LAST-MODIFIED:20260408T011802Z
UID:10017308-1780218000-1780221600@nabaclub.org
SUMMARY:Step 11 Group
DESCRIPTION:AA | Small Upstairs
URL:https://nabaclub.org/event/step-11-by-the-creek/2026-05-31/
CATEGORIES:Meetings
END:VEVENT
BEGIN:VEVENT
DTSTART;TZID=America/New_York:20260607T090000
DTEND;TZID=America/New_York:20260607T100000
DTSTAMP:20260424T093847
CREATED:20260319T004651Z
LAST-MODIFIED:20260408T011802Z
UID:10017309-1780822800-1780826400@nabaclub.org
SUMMARY:Step 11 Group
DESCRIPTION:AA | Small Upstairs
URL:https://nabaclub.org/event/step-11-by-the-creek/2026-06-07/
CATEGORIES:Meetings
END:VEVENT
BEGIN:VEVENT
DTSTART;TZID=America/New_York:20260614T090000
DTEND;TZID=America/New_York:20260614T100000
DTSTAMP:20260424T093847
CREATED:20260319T004651Z
LAST-MODIFIED:20260408T011802Z
UID:10017310-1781427600-1781431200@nabaclub.org
SUMMARY:Step 11 Group
DESCRIPTION:AA | Small Upstairs
URL:https://nabaclub.org/event/step-11-by-the-creek/2026-06-14/
CATEGORIES:Meetings
END:VEVENT
BEGIN:VEVENT
DTSTART;TZID=America/New_York:20260621T090000
DTEND;TZID=America/New_York:20260621T100000
DTSTAMP:20260424T093847
CREATED:20260319T004651Z
LAST-MODIFIED:20260408T011802Z
UID:10017311-1782032400-1782036000@nabaclub.org
SUMMARY:Step 11 Group
DESCRIPTION:AA | Small Upstairs
URL:https://nabaclub.org/event/step-11-by-the-creek/2026-06-21/
CATEGORIES:Meetings
END:VEVENT
BEGIN:VEVENT
DTSTART;TZID=America/New_York:20260628T090000
DTEND;TZID=America/New_York:20260628T100000
DTSTAMP:20260424T093847
CREATED:20260319T004651Z
LAST-MODIFIED:20260408T011802Z
UID:10017312-1782637200-1782640800@nabaclub.org
SUMMARY:Step 11 Group
DESCRIPTION:AA | Small Upstairs
URL:https://nabaclub.org/event/step-11-by-the-creek/2026-06-28/
CATEGORIES:Meetings
END:VEVENT
BEGIN:VEVENT
DTSTART;TZID=America/New_York:20260705T090000
DTEND;TZID=America/New_York:20260705T100000
DTSTAMP:20260424T093847
CREATED:20260319T004651Z
LAST-MODIFIED:20260408T011802Z
UID:10017313-1783242000-1783245600@nabaclub.org
SUMMARY:Step 11 Group
DESCRIPTION:AA | Small Upstairs
URL:https://nabaclub.org/event/step-11-by-the-creek/2026-07-05/
CATEGORIES:Meetings
END:VEVENT
BEGIN:VEVENT
DTSTART;TZID=America/New_York:20260712T090000
DTEND;TZID=America/New_York:20260712T100000
DTSTAMP:20260424T093847
CREATED:20260319T004651Z
LAST-MODIFIED:20260408T011802Z
UID:10017314-1783846800-1783850400@nabaclub.org
SUMMARY:Step 11 Group
DESCRIPTION:AA | Small Upstairs
URL:https://nabaclub.org/event/step-11-by-the-creek/2026-07-12/
CATEGORIES:Meetings
END:VEVENT
BEGIN:VEVENT
DTSTART;TZID=America/New_York:20260719T090000
DTEND;TZID=America/New_York:20260719T100000
DTSTAMP:20260424T093847
CREATED:20260319T004651Z
LAST-MODIFIED:20260408T011802Z
UID:10017315-1784451600-1784455200@nabaclub.org
SUMMARY:Step 11 Group
DESCRIPTION:AA | Small Upstairs
URL:https://nabaclub.org/event/step-11-by-the-creek/2026-07-19/
CATEGORIES:Meetings
END:VEVENT
BEGIN:VEVENT
DTSTART;TZID=America/New_York:20260726T090000
DTEND;TZID=America/New_York:20260726T100000
DTSTAMP:20260424T093847
CREATED:20260319T004651Z
LAST-MODIFIED:20260408T011802Z
UID:10017316-1785056400-1785060000@nabaclub.org
SUMMARY:Step 11 Group
DESCRIPTION:AA | Small Upstairs
URL:https://nabaclub.org/event/step-11-by-the-creek/2026-07-26/
CATEGORIES:Meetings
END:VEVENT
BEGIN:VEVENT
DTSTART;TZID=America/New_York:20260802T090000
DTEND;TZID=America/New_York:20260802T100000
DTSTAMP:20260424T093847
CREATED:20260319T004651Z
LAST-MODIFIED:20260408T011802Z
UID:10017317-1785661200-1785664800@nabaclub.org
SUMMARY:Step 11 Group
DESCRIPTION:AA | Small Upstairs
URL:https://nabaclub.org/event/step-11-by-the-creek/2026-08-02/
CATEGORIES:Meetings
END:VEVENT
BEGIN:VEVENT
DTSTART;TZID=America/New_York:20260809T090000
DTEND;TZID=America/New_York:20260809T100000
DTSTAMP:20260424T093847
CREATED:20260319T004651Z
LAST-MODIFIED:20260408T011802Z
UID:10017318-1786266000-1786269600@nabaclub.org
SUMMARY:Step 11 Group
DESCRIPTION:AA | Small Upstairs
URL:https://nabaclub.org/event/step-11-by-the-creek/2026-08-09/
CATEGORIES:Meetings
END:VEVENT
BEGIN:VEVENT
DTSTART;TZID=America/New_York:20260816T090000
DTEND;TZID=America/New_York:20260816T100000
DTSTAMP:20260424T093847
CREATED:20260319T004651Z
LAST-MODIFIED:20260408T011802Z
UID:10017319-1786870800-1786874400@nabaclub.org
SUMMARY:Step 11 Group
DESCRIPTION:AA | Small Upstairs
URL:https://nabaclub.org/event/step-11-by-the-creek/2026-08-16/
CATEGORIES:Meetings
END:VEVENT
BEGIN:VEVENT
DTSTART;TZID=America/New_York:20260823T090000
DTEND;TZID=America/New_York:20260823T100000
DTSTAMP:20260424T093847
CREATED:20260319T004651Z
LAST-MODIFIED:20260408T011802Z
UID:10017320-1787475600-1787479200@nabaclub.org
SUMMARY:Step 11 Group
DESCRIPTION:AA | Small Upstairs
URL:https://nabaclub.org/event/step-11-by-the-creek/2026-08-23/
CATEGORIES:Meetings
END:VEVENT
BEGIN:VEVENT
DTSTART;TZID=America/New_York:20260830T090000
DTEND;TZID=America/New_York:20260830T100000
DTSTAMP:20260424T093847
CREATED:20260319T004651Z
LAST-MODIFIED:20260408T011802Z
UID:10017321-1788080400-1788084000@nabaclub.org
SUMMARY:Step 11 Group
DESCRIPTION:AA | Small Upstairs
URL:https://nabaclub.org/event/step-11-by-the-creek/2026-08-30/
CATEGORIES:Meetings
END:VEVENT
BEGIN:VEVENT
DTSTART;TZID=America/New_York:20260906T090000
DTEND;TZID=America/New_York:20260906T100000
DTSTAMP:20260424T093847
CREATED:20260319T004651Z
LAST-MODIFIED:20260408T011802Z
UID:10017322-1788685200-1788688800@nabaclub.org
SUMMARY:Step 11 Group
DESCRIPTION:AA | Small Upstairs
URL:https://nabaclub.org/event/step-11-by-the-creek/2026-09-06/
CATEGORIES:Meetings
END:VEVENT
BEGIN:VEVENT
DTSTART;TZID=America/New_York:20260913T090000
DTEND;TZID=America/New_York:20260913T100000
DTSTAMP:20260424T093847
CREATED:20260319T004651Z
LAST-MODIFIED:20260408T011802Z
UID:10017323-1789290000-1789293600@nabaclub.org
SUMMARY:Step 11 Group
DESCRIPTION:AA | Small Upstairs
URL:https://nabaclub.org/event/step-11-by-the-creek/2026-09-13/
CATEGORIES:Meetings
END:VEVENT
BEGIN:VEVENT
DTSTART;TZID=America/New_York:20260920T090000
DTEND;TZID=America/New_York:20260920T100000
DTSTAMP:20260424T093847
CREATED:20260319T004651Z
LAST-MODIFIED:20260408T011802Z
UID:10017324-1789894800-1789898400@nabaclub.org
SUMMARY:Step 11 Group
DESCRIPTION:AA | Small Upstairs
URL:https://nabaclub.org/event/step-11-by-the-creek/2026-09-20/
CATEGORIES:Meetings
END:VEVENT
BEGIN:VEVENT
DTSTART;TZID=America/New_York:20260927T090000
DTEND;TZID=America/New_York:20260927T100000
DTSTAMP:20260424T093847
CREATED:20260319T004651Z
LAST-MODIFIED:20260408T011802Z
UID:10017325-1790499600-1790503200@nabaclub.org
SUMMARY:Step 11 Group
DESCRIPTION:AA | Small Upstairs
URL:https://nabaclub.org/event/step-11-by-the-creek/2026-09-27/
CATEGORIES:Meetings
END:VEVENT
BEGIN:VEVENT
DTSTART;TZID=America/New_York:20261004T090000
DTEND;TZID=America/New_York:20261004T100000
DTSTAMP:20260424T093847
CREATED:20260319T004651Z
LAST-MODIFIED:20260408T011802Z
UID:10017326-1791104400-1791108000@nabaclub.org
SUMMARY:Step 11 Group
DESCRIPTION:AA | Small Upstairs
URL:https://nabaclub.org/event/step-11-by-the-creek/2026-10-04/
CATEGORIES:Meetings
END:VEVENT
BEGIN:VEVENT
DTSTART;TZID=America/New_York:20261011T090000
DTEND;TZID=America/New_York:20261011T100000
DTSTAMP:20260424T093847
CREATED:20260319T004651Z
LAST-MODIFIED:20260408T011802Z
UID:10017327-1791709200-1791712800@nabaclub.org
SUMMARY:Step 11 Group
DESCRIPTION:AA | Small Upstairs
URL:https://nabaclub.org/event/step-11-by-the-creek/2026-10-11/
CATEGORIES:Meetings
END:VEVENT
BEGIN:VEVENT
DTSTART;TZID=America/New_York:20261018T090000
DTEND;TZID=America/New_York:20261018T100000
DTSTAMP:20260424T093847
CREATED:20260319T004651Z
LAST-MODIFIED:20260408T011802Z
UID:10017328-1792314000-1792317600@nabaclub.org
SUMMARY:Step 11 Group
DESCRIPTION:AA | Small Upstairs
URL:https://nabaclub.org/event/step-11-by-the-creek/2026-10-18/
CATEGORIES:Meetings
END:VEVENT
BEGIN:VEVENT
DTSTART;TZID=America/New_York:20261025T090000
DTEND;TZID=America/New_York:20261025T100000
DTSTAMP:20260424T093847
CREATED:20260319T004651Z
LAST-MODIFIED:20260408T011802Z
UID:10017329-1792918800-1792922400@nabaclub.org
SUMMARY:Step 11 Group
DESCRIPTION:AA | Small Upstairs
URL:https://nabaclub.org/event/step-11-by-the-creek/2026-10-25/
CATEGORIES:Meetings
END:VEVENT
BEGIN:VEVENT
DTSTART;TZID=America/New_York:20261101T090000
DTEND;TZID=America/New_York:20261101T100000
DTSTAMP:20260424T093847
CREATED:20260319T004651Z
LAST-MODIFIED:20260408T011802Z
UID:10017330-1793523600-1793527200@nabaclub.org
SUMMARY:Step 11 Group
DESCRIPTION:AA | Small Upstairs
URL:https://nabaclub.org/event/step-11-by-the-creek/2026-11-01/
CATEGORIES:Meetings
END:VEVENT
BEGIN:VEVENT
DTSTART;TZID=America/New_York:20261108T090000
DTEND;TZID=America/New_York:20261108T100000
DTSTAMP:20260424T093847
CREATED:20260319T004651Z
LAST-MODIFIED:20260408T011802Z
UID:10017331-1794128400-1794132000@nabaclub.org
SUMMARY:Step 11 Group
DESCRIPTION:AA | Small Upstairs
URL:https://nabaclub.org/event/step-11-by-the-creek/2026-11-08/
CATEGORIES:Meetings
END:VEVENT
BEGIN:VEVENT
DTSTART;TZID=America/New_York:20261115T090000
DTEND;TZID=America/New_York:20261115T100000
DTSTAMP:20260424T093847
CREATED:20260319T004651Z
LAST-MODIFIED:20260408T011802Z
UID:10017332-1794733200-1794736800@nabaclub.org
SUMMARY:Step 11 Group
DESCRIPTION:AA | Small Upstairs
URL:https://nabaclub.org/event/step-11-by-the-creek/2026-11-15/
CATEGORIES:Meetings
END:VEVENT
END:VCALENDAR