BEGIN:VCALENDAR
VERSION:2.0
PRODID:-//NABA Club - ECPv6.15.15//NONSGML v1.0//EN
CALSCALE:GREGORIAN
METHOD:PUBLISH
X-WR-CALNAME:NABA Club
X-ORIGINAL-URL:https://nabaclub.org
X-WR-CALDESC:Events for NABA Club
REFRESH-INTERVAL;VALUE=DURATION:PT1H
X-Robots-Tag:noindex
X-PUBLISHED-TTL:PT1H
BEGIN:VTIMEZONE
TZID:America/New_York
BEGIN:DAYLIGHT
TZOFFSETFROM:-0500
TZOFFSETTO:-0400
TZNAME:EDT
DTSTART:20250309T070000
END:DAYLIGHT
BEGIN:STANDARD
TZOFFSETFROM:-0400
TZOFFSETTO:-0500
TZNAME:EST
DTSTART:20251102T060000
END:STANDARD
BEGIN:DAYLIGHT
TZOFFSETFROM:-0500
TZOFFSETTO:-0400
TZNAME:EDT
DTSTART:20260308T070000
END:DAYLIGHT
BEGIN:STANDARD
TZOFFSETFROM:-0400
TZOFFSETTO:-0500
TZNAME:EST
DTSTART:20261101T060000
END:STANDARD
BEGIN:DAYLIGHT
TZOFFSETFROM:-0500
TZOFFSETTO:-0400
TZNAME:EDT
DTSTART:20270314T070000
END:DAYLIGHT
BEGIN:STANDARD
TZOFFSETFROM:-0400
TZOFFSETTO:-0500
TZNAME:EST
DTSTART:20271107T060000
END:STANDARD
END:VTIMEZONE
BEGIN:VEVENT
DTSTART;TZID=America/New_York:20260502T110000
DTEND;TZID=America/New_York:20260502T120000
DTSTAMP:20260420T121022
CREATED:20250811T163948Z
LAST-MODIFIED:20251013T200630Z
UID:10009314-1777719600-1777723200@nabaclub.org
SUMMARY:Women's Al-Anon Beginners
DESCRIPTION:Al-anon | Large Upstairs/Behind Curtain
URL:https://nabaclub.org/event/womens-al-anon-beginners/2026-05-02/
LOCATION:NABA Club\, 1809 Briarwood Rd NE\, Atlanta\, Georgia\, 30329-1605\, United States
CATEGORIES:Meetings
ORGANIZER;CN="NABA Club":MAILTO:naba1809@nabaclub.org
END:VEVENT
BEGIN:VEVENT
DTSTART;TZID=America/New_York:20260502T113000
DTEND;TZID=America/New_York:20260502T123000
DTSTAMP:20260420T121022
CREATED:20250811T164112Z
LAST-MODIFIED:20251013T200709Z
UID:10009052-1777721400-1777725000@nabaclub.org
SUMMARY:Bridge Builders - Open Discussion
DESCRIPTION:AA | Large Upstairs
URL:https://nabaclub.org/event/bridge-builders-open-discussion-6/2026-05-02/
LOCATION:NABA Club\, 1809 Briarwood Rd NE\, Atlanta\, Georgia\, 30329-1605\, United States
CATEGORIES:Meetings
ORGANIZER;CN="NABA Club":MAILTO:naba1809@nabaclub.org
END:VEVENT
BEGIN:VEVENT
DTSTART;TZID=America/New_York:20260502T113500
DTEND;TZID=America/New_York:20260502T123500
DTSTAMP:20260420T121022
CREATED:20250811T164032Z
LAST-MODIFIED:20251014T223819Z
UID:10008790-1777721700-1777725300@nabaclub.org
SUMMARY:Women's Al-Anon
DESCRIPTION:Al-anon | Small Upstairs
URL:https://nabaclub.org/event/womens-al-anon/2026-05-02/
LOCATION:NABA Club\, 1809 Briarwood Rd NE\, Atlanta\, Georgia\, 30329-1605\, United States
CATEGORIES:Meetings
ORGANIZER;CN="NABA Club":MAILTO:naba1809@nabaclub.org
END:VEVENT
BEGIN:VEVENT
DTSTART;TZID=America/New_York:20260502T140000
DTEND;TZID=America/New_York:20260502T150000
DTSTAMP:20260420T121022
CREATED:20250925T173742Z
LAST-MODIFIED:20251014T223711Z
UID:10008528-1777730400-1777734000@nabaclub.org
SUMMARY:Think It Through Sober - Beginners Discussion
DESCRIPTION:AA | Small Upstairs
URL:https://nabaclub.org/event/think-it-through-sober-beginners-discussion-3/2026-05-02/
LOCATION:NABA Club\, 1809 Briarwood Rd NE\, Atlanta\, Georgia\, 30329-1605\, United States
CATEGORIES:Meetings
ORGANIZER;CN="NABA Club":MAILTO:naba1809@nabaclub.org
END:VEVENT
BEGIN:VEVENT
DTSTART;TZID=America/New_York:20260502T174500
DTEND;TZID=America/New_York:20260502T184500
DTSTAMP:20260420T121022
CREATED:20250925T173902Z
LAST-MODIFIED:20251013T193342Z
UID:10008266-1777743900-1777747500@nabaclub.org
SUMMARY:How It Works - Open Discussion (*)
DESCRIPTION:AA | Large Upstairs
URL:https://nabaclub.org/event/how-it-works-open-discussion-5/2026-05-02/
LOCATION:NABA Club\, 1809 Briarwood Rd NE\, Atlanta\, Georgia\, 30329-1605\, United States
CATEGORIES:Meetings
ORGANIZER;CN="NABA Club":MAILTO:naba1809@nabaclub.org
END:VEVENT
BEGIN:VEVENT
DTSTART;TZID=America/New_York:20260502T193000
DTEND;TZID=America/New_York:20260502T203000
DTSTAMP:20260420T121022
CREATED:20250811T164311Z
LAST-MODIFIED:20251014T223002Z
UID:10008004-1777750200-1777753800@nabaclub.org
SUMMARY:Saturday Night Fellowship (Al-Anon)
DESCRIPTION:Al-anon | Small Upstairs
URL:https://nabaclub.org/event/saturday-night-fellowship-al-anon/2026-05-02/
LOCATION:NABA Club\, 1809 Briarwood Rd NE\, Atlanta\, Georgia\, 30329-1605\, United States
CATEGORIES:Meetings
ORGANIZER;CN="NABA Club":MAILTO:naba1809@nabaclub.org
END:VEVENT
BEGIN:VEVENT
DTSTART;TZID=America/New_York:20260503T073000
DTEND;TZID=America/New_York:20260503T083000
DTSTAMP:20260420T121022
CREATED:20250811T164355Z
LAST-MODIFIED:20251123T215246Z
UID:10007742-1777793400-1777797000@nabaclub.org
SUMMARY:Early Morning Study - As Bill Sees It
DESCRIPTION:AA | Large Upstairs
URL:https://nabaclub.org/event/early-morning-study-as-bill-sees-it/2026-05-03/
LOCATION:NABA Club\, 1809 Briarwood Rd NE\, Atlanta\, Georgia\, 30329-1605\, United States
CATEGORIES:Meetings
ORGANIZER;CN="NABA Club":MAILTO:naba1809@nabaclub.org
END:VEVENT
BEGIN:VEVENT
DTSTART;TZID=America/New_York:20260503T090000
DTEND;TZID=America/New_York:20260503T100000
DTSTAMP:20260420T121022
CREATED:20260227T001442Z
LAST-MODIFIED:20260227T001825Z
UID:10007480-1777798800-1777802400@nabaclub.org
SUMMARY:BC Group - Open Discussion
DESCRIPTION:AA | Large Upstairs/Behind Curtain
URL:https://nabaclub.org/event/bc-group-open-discussion-2/2026-05-03/
LOCATION:NABA Club\, 1809 Briarwood Rd NE\, Atlanta\, Georgia\, 30329-1605\, United States
CATEGORIES:Meetings
ORGANIZER;CN="NABA Club":MAILTO:naba1809@nabaclub.org
END:VEVENT
BEGIN:VEVENT
DTSTART;TZID=America/New_York:20260503T110000
DTEND;TZID=America/New_York:20260503T120000
DTSTAMP:20260420T121022
CREATED:20250811T164503Z
LAST-MODIFIED:20251014T222723Z
UID:10007218-1777806000-1777809600@nabaclub.org
SUMMARY:Came to Believe - Big Book
DESCRIPTION:AA | Small Upstairs
URL:https://nabaclub.org/event/came-to-believe-big-book/2026-05-03/
LOCATION:NABA Club\, 1809 Briarwood Rd NE\, Atlanta\, Georgia\, 30329-1605\, United States
CATEGORIES:Meetings
ORGANIZER;CN="NABA Club":MAILTO:naba1809@nabaclub.org
END:VEVENT
BEGIN:VEVENT
DTSTART;TZID=America/New_York:20260503T113000
DTEND;TZID=America/New_York:20260503T123000
DTSTAMP:20260420T121022
CREATED:20250811T164553Z
LAST-MODIFIED:20251014T222611Z
UID:10006956-1777807800-1777811400@nabaclub.org
SUMMARY:Bridge Builders - Open Discussion
DESCRIPTION:AA | Large Upstairs
URL:https://nabaclub.org/event/bridge-builders-open-discussion-7/2026-05-03/
LOCATION:NABA Club\, 1809 Briarwood Rd NE\, Atlanta\, Georgia\, 30329-1605\, United States
CATEGORIES:Meetings
ORGANIZER;CN="NABA Club":MAILTO:naba1809@nabaclub.org
END:VEVENT
BEGIN:VEVENT
DTSTART;TZID=America/New_York:20260503T140000
DTEND;TZID=America/New_York:20260503T150000
DTSTAMP:20260420T121022
CREATED:20250811T164151Z
LAST-MODIFIED:20251014T222516Z
UID:10006694-1777816800-1777820400@nabaclub.org
SUMMARY:Think It Through Sober - Beginners Discussion
DESCRIPTION:AA | Small Upstairs
URL:https://nabaclub.org/event/think-it-through-sober-beginners-discussion/2026-05-03/
LOCATION:NABA Club\, 1809 Briarwood Rd NE\, Atlanta\, Georgia\, 30329-1605\, United States
CATEGORIES:Meetings
ORGANIZER;CN="NABA Club":MAILTO:naba1809@nabaclub.org
END:VEVENT
BEGIN:VEVENT
DTSTART;TZID=America/New_York:20260503T174500
DTEND;TZID=America/New_York:20260503T184500
DTSTAMP:20260420T121022
CREATED:20250811T164236Z
LAST-MODIFIED:20251014T222344Z
UID:10006432-1777830300-1777833900@nabaclub.org
SUMMARY:How It Works - Open Discussion (*)
DESCRIPTION:AA | Large Upstairs
URL:https://nabaclub.org/event/how-it-works-open-discussion-3/2026-05-03/
LOCATION:NABA Club\, 1809 Briarwood Rd NE\, Atlanta\, Georgia\, 30329-1605\, United States
CATEGORIES:Meetings
ORGANIZER;CN="NABA Club":MAILTO:naba1809@nabaclub.org
END:VEVENT
BEGIN:VEVENT
DTSTART;TZID=America/New_York:20260503T191500
DTEND;TZID=America/New_York:20260503T201500
DTSTAMP:20260420T121022
CREATED:20251104T152723Z
LAST-MODIFIED:20251104T152723Z
UID:10015651-1777835700-1777839300@nabaclub.org
SUMMARY:Raiders of the Lost Big Book
DESCRIPTION:AA | Large Upstairs
URL:https://nabaclub.org/event/raiders-of-the-lost-big-book/2026-05-03/
LOCATION:NABA Club\, 1809 Briarwood Rd NE\, Atlanta\, Georgia\, 30329-1605\, United States
CATEGORIES:Meetings
ORGANIZER;CN="NABA Club":MAILTO:naba1809@nabaclub.org
END:VEVENT
BEGIN:VEVENT
DTSTART;TZID=America/New_York:20260504T073000
DTEND;TZID=America/New_York:20260504T083000
DTSTAMP:20260420T121022
CREATED:20250811T155345Z
LAST-MODIFIED:20251123T215322Z
UID:10006170-1777879800-1777883400@nabaclub.org
SUMMARY:Early Morning Study - Big Book Stories
DESCRIPTION:AA | Large Upstairs
URL:https://nabaclub.org/event/early-morning-study-big-book-stories/2026-05-04/
LOCATION:NABA Club\, 1809 Briarwood Rd NE\, Atlanta\, Georgia\, 30329-1605\, United States
CATEGORIES:Meetings
END:VEVENT
BEGIN:VEVENT
DTSTART;TZID=America/New_York:20260504T093000
DTEND;TZID=America/New_York:20260504T103000
DTSTAMP:20260420T121022
CREATED:20250811T162122Z
LAST-MODIFIED:20251014T222241Z
UID:10005908-1777887000-1777890600@nabaclub.org
SUMMARY:I Can't\, We Can - Big Book
DESCRIPTION:AA | Small Upstairs
URL:https://nabaclub.org/event/i-cant-we-can-big-book-2/2026-05-04/
LOCATION:NABA Club\, 1809 Briarwood Rd NE\, Atlanta\, Georgia\, 30329-1605\, United States
CATEGORIES:Meetings
END:VEVENT
BEGIN:VEVENT
DTSTART;TZID=America/New_York:20260504T133000
DTEND;TZID=America/New_York:20260504T143000
DTSTAMP:20260420T121022
CREATED:20250811T155830Z
LAST-MODIFIED:20251014T222214Z
UID:10005646-1777901400-1777905000@nabaclub.org
SUMMARY:Think It Through Sober - Open Discussion
DESCRIPTION:AA | Small Upstairs
URL:https://nabaclub.org/event/think-it-through-sober-open-discussion/2026-05-04/
LOCATION:NABA Club\, 1809 Briarwood Rd NE\, Atlanta\, Georgia\, 30329-1605\, United States
CATEGORIES:Meetings
ORGANIZER;CN="NABA Club":MAILTO:naba1809@nabaclub.org
END:VEVENT
BEGIN:VEVENT
DTSTART;TZID=America/New_York:20260504T174500
DTEND;TZID=America/New_York:20260504T184500
DTSTAMP:20260420T121022
CREATED:20250811T164705Z
LAST-MODIFIED:20251014T222142Z
UID:10005384-1777916700-1777920300@nabaclub.org
SUMMARY:How It Works - Open Discussion (*)
DESCRIPTION:AA | Large Upstairs
URL:https://nabaclub.org/event/how-it-works-open-discussion-4/2026-05-04/
LOCATION:NABA Club\, 1809 Briarwood Rd NE\, Atlanta\, Georgia\, 30329-1605\, United States
CATEGORIES:Meetings
ORGANIZER;CN="NABA Club":MAILTO:naba1809@nabaclub.org
END:VEVENT
BEGIN:VEVENT
DTSTART;TZID=America/New_York:20260504T190000
DTEND;TZID=America/New_York:20260504T200000
DTSTAMP:20260420T121022
CREATED:20250811T155949Z
LAST-MODIFIED:20251014T222025Z
UID:10005122-1777921200-1777924800@nabaclub.org
SUMMARY:Al-Anon Hope for Today
DESCRIPTION:Al-anon | Small Upstairs
URL:https://nabaclub.org/event/al-anon-hope-for-today/2026-05-04/
LOCATION:NABA Club\, 1809 Briarwood Rd NE\, Atlanta\, Georgia\, 30329-1605\, United States
CATEGORIES:Meetings
ORGANIZER;CN="NABA Club":MAILTO:naba1809@nabaclub.org
END:VEVENT
BEGIN:VEVENT
DTSTART;TZID=America/New_York:20260504T200000
DTEND;TZID=America/New_York:20260504T210000
DTSTAMP:20260420T121022
CREATED:20250811T160020Z
LAST-MODIFIED:20251014T221934Z
UID:10004860-1777924800-1777928400@nabaclub.org
SUMMARY:Blue Chip Speaker
DESCRIPTION:AA | Large Upstairs
URL:https://nabaclub.org/event/blue-chip-speaker/2026-05-04/
LOCATION:NABA Club\, 1809 Briarwood Rd NE\, Atlanta\, Georgia\, 30329-1605\, United States
CATEGORIES:Meetings
ORGANIZER;CN="NABA Club":MAILTO:naba1809@nabaclub.org
END:VEVENT
BEGIN:VEVENT
DTSTART;TZID=America/New_York:20260505T073000
DTEND;TZID=America/New_York:20260505T083000
DTSTAMP:20260420T121022
CREATED:20250811T160113Z
LAST-MODIFIED:20251123T215406Z
UID:10004598-1777966200-1777969800@nabaclub.org
SUMMARY:Early Morning Study - Big Book 1st 164 pgs
DESCRIPTION:AA | Large Upstairs
URL:https://nabaclub.org/event/early-morning-study-big-book-1st-164-pgs/2026-05-05/
LOCATION:NABA Club\, 1809 Briarwood Rd NE\, Atlanta\, Georgia\, 30329-1605\, United States
CATEGORIES:Meetings
ORGANIZER;CN="NABA Club":MAILTO:naba1809@nabaclub.org
END:VEVENT
BEGIN:VEVENT
DTSTART;TZID=America/New_York:20260505T093000
DTEND;TZID=America/New_York:20260505T103000
DTSTAMP:20260420T121022
CREATED:20250811T160149Z
LAST-MODIFIED:20251014T221609Z
UID:10004336-1777973400-1777977000@nabaclub.org
SUMMARY:I Can't\, We Can - Daily Reflections
DESCRIPTION:AA | Small Upstairs
URL:https://nabaclub.org/event/i-cant-we-can-daily-reflections/2026-05-05/
LOCATION:NABA Club\, 1809 Briarwood Rd NE\, Atlanta\, Georgia\, 30329-1605\, United States
CATEGORIES:Meetings
ORGANIZER;CN="NABA Club":MAILTO:naba1809@nabaclub.org
END:VEVENT
BEGIN:VEVENT
DTSTART;TZID=America/New_York:20260505T110000
DTEND;TZID=America/New_York:20260505T120000
DTSTAMP:20260420T121022
CREATED:20250811T160226Z
LAST-MODIFIED:20251014T221515Z
UID:10004074-1777978800-1777982400@nabaclub.org
SUMMARY:Bridge Builders - Open Discussion
DESCRIPTION:AA | Large Upstairs
URL:https://nabaclub.org/event/bridge-builders-open-discussion-2/2026-05-05/
LOCATION:NABA Club\, 1809 Briarwood Rd NE\, Atlanta\, Georgia\, 30329-1605\, United States
CATEGORIES:Meetings
ORGANIZER;CN="NABA Club":MAILTO:naba1809@nabaclub.org
END:VEVENT
BEGIN:VEVENT
DTSTART;TZID=America/New_York:20260505T133000
DTEND;TZID=America/New_York:20260505T143000
DTSTAMP:20260420T121022
CREATED:20250811T160309Z
LAST-MODIFIED:20251014T221433Z
UID:10003812-1777987800-1777991400@nabaclub.org
SUMMARY:Think It Through Sober - Open Discussion
DESCRIPTION:AA | Small Upstairs
URL:https://nabaclub.org/event/think-it-through-sober-open-discussion-2/2026-05-05/
LOCATION:NABA Club\, 1809 Briarwood Rd NE\, Atlanta\, Georgia\, 30329-1605\, United States
CATEGORIES:Meetings
ORGANIZER;CN="NABA Club":MAILTO:naba1809@nabaclub.org
END:VEVENT
BEGIN:VEVENT
DTSTART;TZID=America/New_York:20260505T174500
DTEND;TZID=America/New_York:20260505T184500
DTSTAMP:20260420T121022
CREATED:20250811T161033Z
LAST-MODIFIED:20251013T200212Z
UID:10003550-1778003100-1778006700@nabaclub.org
SUMMARY:Breakout Session: Step Study
DESCRIPTION:AA | Small Upstairs
URL:https://nabaclub.org/event/breakout-session-step-study/2026-05-05/
LOCATION:NABA Club\, 1809 Briarwood Rd NE\, Atlanta\, Georgia\, 30329-1605\, United States
CATEGORIES:Meetings
ORGANIZER;CN="NABA Club":MAILTO:naba1809@nabaclub.org
END:VEVENT
BEGIN:VEVENT
DTSTART;TZID=America/New_York:20260505T174500
DTEND;TZID=America/New_York:20260505T184500
DTSTAMP:20260420T121022
CREATED:20250925T174527Z
LAST-MODIFIED:20251013T200255Z
UID:10003288-1778003100-1778006700@nabaclub.org
SUMMARY:How It Works - Open Discussion (*)
DESCRIPTION:AA | Large Upstairs
URL:https://nabaclub.org/event/how-it-works-open-discussion-6/2026-05-05/
LOCATION:NABA Club\, 1809 Briarwood Rd NE\, Atlanta\, Georgia\, 30329-1605\, United States
CATEGORIES:Meetings
ORGANIZER;CN="NABA Club":MAILTO:naba1809@nabaclub.org
END:VEVENT
BEGIN:VEVENT
DTSTART;TZID=America/New_York:20260505T193000
DTEND;TZID=America/New_York:20260505T203000
DTSTAMP:20260420T121022
CREATED:20250811T161218Z
LAST-MODIFIED:20251014T221222Z
UID:10002764-1778009400-1778013000@nabaclub.org
SUMMARY:Drop The Rock - Step Study on Steps 6 & 7
DESCRIPTION:AA | Small Upstairs
URL:https://nabaclub.org/event/drop-the-rock-step-study-on-steps-6-7/2026-05-05/
LOCATION:NABA Club\, 1809 Briarwood Rd NE\, Atlanta\, Georgia\, 30329-1605\, United States
CATEGORIES:Meetings
ORGANIZER;CN="NABA Club":MAILTO:naba1809@nabaclub.org
END:VEVENT
BEGIN:VEVENT
DTSTART;TZID=America/New_York:20260506T073000
DTEND;TZID=America/New_York:20260506T083000
DTSTAMP:20260420T121022
CREATED:20250811T161353Z
LAST-MODIFIED:20251123T214921Z
UID:10002240-1778052600-1778056200@nabaclub.org
SUMMARY:Early Morning Study - 12 & 12 Traditions
DESCRIPTION:AA | Large Upstairs
URL:https://nabaclub.org/event/early-morning-study-12-12-traditions/2026-05-06/
LOCATION:NABA Club\, 1809 Briarwood Rd NE\, Atlanta\, Georgia\, 30329-1605\, United States
CATEGORIES:Meetings
ORGANIZER;CN="NABA Club":MAILTO:naba1809@nabaclub.org
END:VEVENT
BEGIN:VEVENT
DTSTART;TZID=America/New_York:20260506T093000
DTEND;TZID=America/New_York:20260506T103000
DTSTAMP:20260420T121022
CREATED:20250811T161452Z
LAST-MODIFIED:20251014T220814Z
UID:10001978-1778059800-1778063400@nabaclub.org
SUMMARY:I Can't\, We Can - Step Study
DESCRIPTION:AA | Small Upstairs
URL:https://nabaclub.org/event/i-cant-we-can-step-study/2026-05-06/
LOCATION:NABA Club\, 1809 Briarwood Rd NE\, Atlanta\, Georgia\, 30329-1605\, United States
CATEGORIES:Meetings
ORGANIZER;CN="NABA Club":MAILTO:naba1809@nabaclub.org
END:VEVENT
BEGIN:VEVENT
DTSTART;TZID=America/New_York:20260506T110000
DTEND;TZID=America/New_York:20260506T120000
DTSTAMP:20260420T121022
CREATED:20250811T161537Z
LAST-MODIFIED:20251014T220731Z
UID:10001716-1778065200-1778068800@nabaclub.org
SUMMARY:Bridge Builders - Open Discussion
DESCRIPTION:AA | Large Upstairs
URL:https://nabaclub.org/event/bridge-builders-open-discussion-3/2026-05-06/
LOCATION:NABA Club\, 1809 Briarwood Rd NE\, Atlanta\, Georgia\, 30329-1605\, United States
CATEGORIES:Meetings
ORGANIZER;CN="NABA Club":MAILTO:naba1809@nabaclub.org
END:VEVENT
BEGIN:VEVENT
DTSTART;TZID=America/New_York:20260506T133000
DTEND;TZID=America/New_York:20260506T143000
DTSTAMP:20260420T121022
CREATED:20250811T161620Z
LAST-MODIFIED:20251014T220604Z
UID:10001454-1778074200-1778077800@nabaclub.org
SUMMARY:Think It Through Sober - Open Discussion
DESCRIPTION:AA | Small Upstairs
URL:https://nabaclub.org/event/think-it-through-sober-open-discussion-3/2026-05-06/
LOCATION:NABA Club\, 1809 Briarwood Rd NE\, Atlanta\, Georgia\, 30329-1605\, United States
CATEGORIES:Meetings
ORGANIZER;CN="NABA Club":MAILTO:naba1809@nabaclub.org
END:VEVENT
END:VCALENDAR